BEGIN:VCALENDAR
VERSION:2.0
PRODID:-//OmniMagnetCalendar//EN
BEGIN:VEVENT
DTSTAMP:20190625T195740Z
STATUS:CONFIRMED
UID:hcindiana.clubs.harvard.edu189
DTSTART:20260514T213000Z
DTEND:20260514T230000Z
LOCATION:101 Craft Kitchen, 1200 S. Rangeline Road, Carmel, IN, 46032, United States,
SUMMARY:May Happy Hour
DESCRIPTION:101 Craft Kitchen
BEGIN:VALARM
TRIGGER:-PT15M
ACTION:DISPLAY
END:VALARM
TRANSP:OPAQUE
END:VEVENT
END:VCALENDAR
