BEGIN:VCALENDAR
VERSION:2.0
PRODID:-//OmniMagnetCalendar//EN
BEGIN:VEVENT
DTSTAMP:20190625T195740Z
STATUS:CONFIRMED
UID:hcindiana.clubs.harvard.edu188
DTSTART:20260423T210000Z
DTEND:20260423T223000Z
LOCATION:Thieves, 854 Broad Ripple Ave., Indianapolis, IN, 46220,
SUMMARY:April Happy Hour
DESCRIPTION:Thieves in Broadripple
BEGIN:VALARM
TRIGGER:-PT15M
ACTION:DISPLAY
END:VALARM
TRANSP:OPAQUE
END:VEVENT
END:VCALENDAR
